BEGIN:VCALENDAR
VERSION:2.0
PRODID:-//Faculty Club of UNMC - ECPv6.15.20//NONSGML v1.0//EN
CALSCALE:GREGORIAN
METHOD:PUBLISH
X-WR-CALNAME:Faculty Club of UNMC
X-ORIGINAL-URL:https://blog.unmc.edu/fwc
X-WR-CALDESC:Events for Faculty Club of UNMC
REFRESH-INTERVAL;VALUE=DURATION:PT1H
X-Robots-Tag:noindex
X-PUBLISHED-TTL:PT1H
BEGIN:VTIMEZONE
TZID:America/Chicago
BEGIN:DAYLIGHT
TZOFFSETFROM:-0600
TZOFFSETTO:-0500
TZNAME:CDT
DTSTART:20240310T080000
END:DAYLIGHT
BEGIN:STANDARD
TZOFFSETFROM:-0500
TZOFFSETTO:-0600
TZNAME:CST
DTSTART:20241103T070000
END:STANDARD
BEGIN:DAYLIGHT
TZOFFSETFROM:-0600
TZOFFSETTO:-0500
TZNAME:CDT
DTSTART:20250309T080000
END:DAYLIGHT
BEGIN:STANDARD
TZOFFSETFROM:-0500
TZOFFSETTO:-0600
TZNAME:CST
DTSTART:20251102T070000
END:STANDARD
BEGIN:DAYLIGHT
TZOFFSETFROM:-0600
TZOFFSETTO:-0500
TZNAME:CDT
DTSTART:20260308T080000
END:DAYLIGHT
BEGIN:STANDARD
TZOFFSETFROM:-0500
TZOFFSETTO:-0600
TZNAME:CST
DTSTART:20261101T070000
END:STANDARD
END:VTIMEZONE
BEGIN:VEVENT
DTSTART;TZID=America/Chicago:20251009T180000
DTEND;TZID=America/Chicago:20251009T190000
DTSTAMP:20260423T141309
CREATED:20251015T212954Z
LAST-MODIFIED:20251015T212954Z
UID:3801-1760032800-1760036400@blog.unmc.edu
SUMMARY:Happy Hour
DESCRIPTION:Yyccz sy Hf Vp t kf m
URL:https://blog.unmc.edu/fwc/event/happy-hour-9/
END:VEVENT
BEGIN:VEVENT
DTSTART;TZID=America/Chicago:20251018T180000
DTEND;TZID=America/Chicago:20251018T193000
DTSTAMP:20260423T141309
CREATED:20251008T180216Z
LAST-MODIFIED:20251008T180216Z
UID:3750-1760810400-1760815800@blog.unmc.edu
SUMMARY:Dining Out
DESCRIPTION:dV DQ bDrsUv LAsWlsupIhIeazhQ
URL:https://blog.unmc.edu/fwc/event/dining-out-20/
LOCATION:La Plaza Fiesta
END:VEVENT
BEGIN:VEVENT
DTSTART;TZID=America/Chicago:20251021T173000
DTEND;TZID=America/Chicago:20251021T183000
DTSTAMP:20260423T141309
CREATED:20251015T212804Z
LAST-MODIFIED:20251015T212856Z
UID:3798-1761067800-1761071400@blog.unmc.edu
SUMMARY:Evening Book Club
DESCRIPTION:
URL:https://blog.unmc.edu/fwc/event/daytime-book-club-21/
END:VEVENT
BEGIN:VEVENT
DTSTART;TZID=America/Chicago:20251023T120000
DTEND;TZID=America/Chicago:20251023T133000
DTSTAMP:20260423T141309
CREATED:20251015T212701Z
LAST-MODIFIED:20251015T212701Z
UID:3796-1761220800-1761226200@blog.unmc.edu
SUMMARY:Faculty Club Luncheon
DESCRIPTION:TwLamHTh G cVg
URL:https://blog.unmc.edu/fwc/event/faculty-club-luncheon/
END:VEVENT
END:VCALENDAR