BEGIN:VCALENDAR
VERSION:2.0
PRODID:-//Faculty Club of UNMC - ECPv6.15.20//NONSGML v1.0//EN
CALSCALE:GREGORIAN
METHOD:PUBLISH
X-WR-CALNAME:Faculty Club of UNMC
X-ORIGINAL-URL:https://blog.unmc.edu/fwc
X-WR-CALDESC:Events for Faculty Club of UNMC
REFRESH-INTERVAL;VALUE=DURATION:PT1H
X-Robots-Tag:noindex
X-PUBLISHED-TTL:PT1H
BEGIN:VTIMEZONE
TZID:America/Chicago
BEGIN:DAYLIGHT
TZOFFSETFROM:-0600
TZOFFSETTO:-0500
TZNAME:CDT
DTSTART:20240310T080000
END:DAYLIGHT
BEGIN:STANDARD
TZOFFSETFROM:-0500
TZOFFSETTO:-0600
TZNAME:CST
DTSTART:20241103T070000
END:STANDARD
BEGIN:DAYLIGHT
TZOFFSETFROM:-0600
TZOFFSETTO:-0500
TZNAME:CDT
DTSTART:20250309T080000
END:DAYLIGHT
BEGIN:STANDARD
TZOFFSETFROM:-0500
TZOFFSETTO:-0600
TZNAME:CST
DTSTART:20251102T070000
END:STANDARD
BEGIN:DAYLIGHT
TZOFFSETFROM:-0600
TZOFFSETTO:-0500
TZNAME:CDT
DTSTART:20260308T080000
END:DAYLIGHT
BEGIN:STANDARD
TZOFFSETFROM:-0500
TZOFFSETTO:-0600
TZNAME:CST
DTSTART:20261101T070000
END:STANDARD
END:VTIMEZONE
BEGIN:VEVENT
DTSTART;TZID=America/Chicago:20250302T150000
DTEND;TZID=America/Chicago:20250302T200000
DTSTAMP:20260421T092315
CREATED:20240906T000515Z
LAST-MODIFIED:20240906T000515Z
UID:3459-1740927600-1740945600@blog.unmc.edu
SUMMARY:Pickleball/Badminton
DESCRIPTION:
URL:https://blog.unmc.edu/fwc/event/pickleball-badminton-7/
LOCATION:UNMC Center for Heathy Living
CATEGORIES:Pickleball/Badminton
END:VEVENT
BEGIN:VEVENT
DTSTART;TZID=America/Chicago:20250304T093000
DTEND;TZID=America/Chicago:20250304T093000
DTSTAMP:20260421T092315
CREATED:20240905T174142Z
LAST-MODIFIED:20240905T181844Z
UID:3325-1741080600-1741080600@blog.unmc.edu
SUMMARY:Needleart
DESCRIPTION:qllGf NF
URL:https://blog.unmc.edu/fwc/event/needleart-28/
CATEGORIES:Needleart
END:VEVENT
BEGIN:VEVENT
DTSTART;TZID=America/Chicago:20250312T130000
DTEND;TZID=America/Chicago:20250312T130000
DTSTAMP:20260421T092315
CREATED:20240905T173931Z
LAST-MODIFIED:20240905T235121Z
UID:3300-1741784400-1741784400@blog.unmc.edu
SUMMARY:Daytime Book Club
DESCRIPTION:The Hobbit\, the Wardrobe and the Great War \nVHXZae QQkQ txv
URL:https://blog.unmc.edu/fwc/event/daytime-book-club-7/
LOCATION:Hostess: JanÊ
CATEGORIES:Day Book Club
END:VEVENT
BEGIN:VEVENT
DTSTART;TZID=America/Chicago:20250313T180000
DTEND;TZID=America/Chicago:20250313T180000
DTSTAMP:20260421T092315
CREATED:20240905T181914Z
LAST-MODIFIED:20240905T181914Z
UID:3435-1741888800-1741888800@blog.unmc.edu
SUMMARY:Happy Hour
DESCRIPTION:Happy Hour Heights Draft Room
URL:https://blog.unmc.edu/fwc/event/happy-hour-6/
LOCATION:Heights Draft Room\, La Vista
CATEGORIES:Happy Hour
END:VEVENT
BEGIN:VEVENT
DTSTART;TZID=America/Chicago:20250315T180000
DTEND;TZID=America/Chicago:20250315T200000
DTSTAMP:20260421T092315
CREATED:20240906T001130Z
LAST-MODIFIED:20250305T012212Z
UID:3477-1742061600-1742068800@blog.unmc.edu
SUMMARY:Dining Out
DESCRIPTION:Everett’s is located at 8807 Maple Street in a strip mall on the south side of Maple \nXmDc Z BT Koq
URL:https://blog.unmc.edu/fwc/event/dining-out-7/
LOCATION:Everett’s\, 8807 Maple Street
CATEGORIES:Dining Out
END:VEVENT
BEGIN:VEVENT
DTSTART;TZID=America/Chicago:20250318T093000
DTEND;TZID=America/Chicago:20250318T093000
DTSTAMP:20260421T092315
CREATED:20240905T174143Z
LAST-MODIFIED:20240905T181844Z
UID:3326-1742290200-1742290200@blog.unmc.edu
SUMMARY:Needleart
DESCRIPTION:
URL:https://blog.unmc.edu/fwc/event/needleart-29/
CATEGORIES:Needleart
END:VEVENT
BEGIN:VEVENT
DTSTART;TZID=America/Chicago:20250318T173000
DTEND;TZID=America/Chicago:20250318T173000
DTSTAMP:20260421T092315
CREATED:20240905T173958Z
LAST-MODIFIED:20241019T223556Z
UID:3310-1742319000-1742319000@blog.unmc.edu
SUMMARY:Evening Book Club
DESCRIPTION:The Women Reviewer: Julie Sebastian
URL:https://blog.unmc.edu/fwc/event/evening-book-club-7/
LOCATION:Zoom
CATEGORIES:Evening Book Club
END:VEVENT
BEGIN:VEVENT
DTSTART;TZID=America/Chicago:20250329T180000
DTEND;TZID=America/Chicago:20250329T200000
DTSTAMP:20260421T092315
CREATED:20250305T012509Z
LAST-MODIFIED:20250305T012509Z
UID:3592-1743271200-1743278400@blog.unmc.edu
SUMMARY:Gourmet Club
DESCRIPTION:Mary Gurney and Bing Behrens \nIj Jvf xy
URL:https://blog.unmc.edu/fwc/event/gourmet-club/
LOCATION:Mary Gurney and Bing Behrens
END:VEVENT
END:VCALENDAR